BEGIN:VCALENDAR
VERSION:2.0
PRODID:-//Human Resources Department - ECPv6.15.14//NONSGML v1.0//EN
CALSCALE:GREGORIAN
METHOD:PUBLISH
X-ORIGINAL-URL:https://hr.sbcounty.gov
X-WR-CALDESC:Events for Human Resources Department
REFRESH-INTERVAL;VALUE=DURATION:PT1H
X-Robots-Tag:noindex
X-PUBLISHED-TTL:PT1H
BEGIN:VTIMEZONE
TZID:America/Los_Angeles
BEGIN:DAYLIGHT
TZOFFSETFROM:-0800
TZOFFSETTO:-0700
TZNAME:PDT
DTSTART:20240310T100000
END:DAYLIGHT
BEGIN:STANDARD
TZOFFSETFROM:-0700
TZOFFSETTO:-0800
TZNAME:PST
DTSTART:20241103T090000
END:STANDARD
BEGIN:DAYLIGHT
TZOFFSETFROM:-0800
TZOFFSETTO:-0700
TZNAME:PDT
DTSTART:20250309T100000
END:DAYLIGHT
BEGIN:STANDARD
TZOFFSETFROM:-0700
TZOFFSETTO:-0800
TZNAME:PST
DTSTART:20251102T090000
END:STANDARD
BEGIN:DAYLIGHT
TZOFFSETFROM:-0800
TZOFFSETTO:-0700
TZNAME:PDT
DTSTART:20260308T100000
END:DAYLIGHT
BEGIN:STANDARD
TZOFFSETFROM:-0700
TZOFFSETTO:-0800
TZNAME:PST
DTSTART:20261101T090000
END:STANDARD
BEGIN:DAYLIGHT
TZOFFSETFROM:-0800
TZOFFSETTO:-0700
TZNAME:PDT
DTSTART:20270314T100000
END:DAYLIGHT
BEGIN:STANDARD
TZOFFSETFROM:-0700
TZOFFSETTO:-0800
TZNAME:PST
DTSTART:20271107T090000
END:STANDARD
END:VTIMEZONE
BEGIN:VEVENT
DTSTART;TZID=America/Los_Angeles:20260401T083000
DTEND;TZID=America/Los_Angeles:20260401T133000
DTSTAMP:20260422T205739
CREATED:20251125T210549Z
LAST-MODIFIED:20251125T210549Z
UID:10000448-1775032200-1775050200@hr.sbcounty.gov
SUMMARY:ARMC Farmers' Market
DESCRIPTION:Join us at this month’s event and connect with our HR professionals. Whether you’re curious about career opportunities\, benefits\, or the hiring process—stop by and get your questions answered. Let’s talk about your future with San Bernardino County!
URL:https://hr.sbcounty.gov/event/armc-farmers-market-3/2026-04-01/
CATEGORIES:HR Events
END:VEVENT
BEGIN:VEVENT
DTSTART;TZID=America/Los_Angeles:20260327T090000
DTEND;TZID=America/Los_Angeles:20260327T123000
DTSTAMP:20260422T205739
CREATED:20251015T173541Z
LAST-MODIFIED:20251027T175414Z
UID:10000405-1774602000-1774614600@hr.sbcounty.gov
SUMMARY:Riverside – AJCC Mini Job Fair
DESCRIPTION:
URL:https://hr.sbcounty.gov/event/riverside-americas-ajcc-mini-job-fair-2/2026-03-27/
LOCATION:Riverside – America’s Job Center of CA (AJCC)\, 1325 Spruce Street\, Riverside\, CA\, 92507\, United States
CATEGORIES:HR Events
ORGANIZER;CN="Lance Sayavong":MAILTO:Lance.Sayavong@edd.ca.gov
END:VEVENT
BEGIN:VEVENT
DTSTART;TZID=America/Los_Angeles:20260304T083000
DTEND;TZID=America/Los_Angeles:20260304T133000
DTSTAMP:20260422T205739
CREATED:20251125T210549Z
LAST-MODIFIED:20251125T210549Z
UID:10000445-1772613000-1772631000@hr.sbcounty.gov
SUMMARY:ARMC Farmers' Market
DESCRIPTION:Join us at this month’s event and connect with our HR professionals. Whether you’re curious about career opportunities\, benefits\, or the hiring process—stop by and get your questions answered. Let’s talk about your future with San Bernardino County!
URL:https://hr.sbcounty.gov/event/armc-farmers-market-3/2026-03-04/
CATEGORIES:HR Events
END:VEVENT
BEGIN:VEVENT
DTSTART;TZID=America/Los_Angeles:20260227T090000
DTEND;TZID=America/Los_Angeles:20260227T123000
DTSTAMP:20260422T205739
CREATED:20251015T173541Z
LAST-MODIFIED:20251027T175414Z
UID:10000402-1772182800-1772195400@hr.sbcounty.gov
SUMMARY:Riverside – AJCC Mini Job Fair
DESCRIPTION:
URL:https://hr.sbcounty.gov/event/riverside-americas-ajcc-mini-job-fair-2/2026-02-27/
LOCATION:Riverside – America’s Job Center of CA (AJCC)\, 1325 Spruce Street\, Riverside\, CA\, 92507\, United States
CATEGORIES:HR Events
ORGANIZER;CN="Lance Sayavong":MAILTO:Lance.Sayavong@edd.ca.gov
END:VEVENT
BEGIN:VEVENT
DTSTART;TZID=America/Los_Angeles:20260204T083000
DTEND;TZID=America/Los_Angeles:20260204T133000
DTSTAMP:20260422T205739
CREATED:20251125T210549Z
LAST-MODIFIED:20251125T210549Z
UID:10000442-1770193800-1770211800@hr.sbcounty.gov
SUMMARY:ARMC Farmers' Market
DESCRIPTION:Join us at this month’s event and connect with our HR professionals. Whether you’re curious about career opportunities\, benefits\, or the hiring process—stop by and get your questions answered. Let’s talk about your future with San Bernardino County!
URL:https://hr.sbcounty.gov/event/armc-farmers-market-3/2026-02-04/
CATEGORIES:HR Events
END:VEVENT
BEGIN:VEVENT
DTSTART;TZID=America/Los_Angeles:20260130T090000
DTEND;TZID=America/Los_Angeles:20260130T123000
DTSTAMP:20260422T205739
CREATED:20251015T173541Z
LAST-MODIFIED:20251027T175414Z
UID:10000399-1769763600-1769776200@hr.sbcounty.gov
SUMMARY:Riverside – AJCC Mini Job Fair
DESCRIPTION:
URL:https://hr.sbcounty.gov/event/riverside-americas-ajcc-mini-job-fair-2/2026-01-30/
LOCATION:Riverside – America’s Job Center of CA (AJCC)\, 1325 Spruce Street\, Riverside\, CA\, 92507\, United States
CATEGORIES:HR Events
ORGANIZER;CN="Lance Sayavong":MAILTO:Lance.Sayavong@edd.ca.gov
END:VEVENT
BEGIN:VEVENT
DTSTART;TZID=America/Los_Angeles:20260107T083000
DTEND;TZID=America/Los_Angeles:20260107T133000
DTSTAMP:20260422T205739
CREATED:20251125T210549Z
LAST-MODIFIED:20251125T210549Z
UID:10000439-1767774600-1767792600@hr.sbcounty.gov
SUMMARY:ARMC Farmers' Market
DESCRIPTION:Join us at this month’s event and connect with our HR professionals. Whether you’re curious about career opportunities\, benefits\, or the hiring process—stop by and get your questions answered. Let’s talk about your future with San Bernardino County!
URL:https://hr.sbcounty.gov/event/armc-farmers-market-3/2026-01-07/
CATEGORIES:HR Events
END:VEVENT
BEGIN:VEVENT
DTSTART;TZID=America/Los_Angeles:20251119T090000
DTEND;TZID=America/Los_Angeles:20251119T120000
DTSTAMP:20260422T205739
CREATED:20251103T175249Z
LAST-MODIFIED:20251103T175443Z
UID:10000434-1763542800-1763553600@hr.sbcounty.gov
SUMMARY:San Bernardino County Job Fair - WVAJCC
DESCRIPTION:
URL:https://hr.sbcounty.gov/event/san-bernardino-county-job-fair-wvajcc/
LOCATION:West Valley America’s Job Center of California\, 9650 9th Street\, Suite A\, Rancho Cucamonga\, CA\, 91730\, United States
CATEGORIES:HR Events,Job Fair
END:VEVENT
BEGIN:VEVENT
DTSTART;TZID=America/Los_Angeles:20251113T130000
DTEND;TZID=America/Los_Angeles:20251113T150000
DTSTAMP:20260422T205739
CREATED:20251103T174355Z
LAST-MODIFIED:20251103T174506Z
UID:10000428-1763038800-1763046000@hr.sbcounty.gov
SUMMARY:Cal Baptist University Fall Internship and Career Fair
DESCRIPTION:
URL:https://hr.sbcounty.gov/event/cal-baptist-university-fall-internship-and-career-fair/
LOCATION:Cal Baptist University Van Dyne Gym\, Lancer Ln\, Riverside\, CA\, 92504\, United States
CATEGORIES:HR Events,Job Fair
END:VEVENT
BEGIN:VEVENT
DTSTART;TZID=America/Los_Angeles:20251031T090000
DTEND;TZID=America/Los_Angeles:20251031T123000
DTSTAMP:20260422T205739
CREATED:20251015T173541Z
LAST-MODIFIED:20251027T175414Z
UID:10000021-1761901200-1761913800@hr.sbcounty.gov
SUMMARY:Riverside – AJCC Mini Job Fair
DESCRIPTION:
URL:https://hr.sbcounty.gov/event/riverside-americas-ajcc-mini-job-fair-2/2025-10-31/
LOCATION:Riverside – America’s Job Center of CA (AJCC)\, 1325 Spruce Street\, Riverside\, CA\, 92507\, United States
CATEGORIES:HR Events
ORGANIZER;CN="Lance Sayavong":MAILTO:Lance.Sayavong@edd.ca.gov
END:VEVENT
BEGIN:VEVENT
DTSTART;TZID=America/Los_Angeles:20251024T110000
DTEND;TZID=America/Los_Angeles:20251024T140000
DTSTAMP:20260422T205739
CREATED:20251015T180537Z
LAST-MODIFIED:20251015T180537Z
UID:10000231-1761303600-1761314400@hr.sbcounty.gov
SUMMARY:Tri-City Wellness Center 11th Annual Job Fair
DESCRIPTION:
URL:https://hr.sbcounty.gov/event/tri-city-wellness-center-11th-annual-job-fair/
LOCATION:Tri-City Wellness Center (Activity Building)\, 1403 N Garey Ave\, Pomona\, 91767\, United States
CATEGORIES:HR Events,Job Fair
END:VEVENT
BEGIN:VEVENT
DTSTART;TZID=America/Los_Angeles:20251023T100000
DTEND;TZID=America/Los_Angeles:20251023T133000
DTSTAMP:20260422T205739
CREATED:20251015T175121Z
LAST-MODIFIED:20251015T175326Z
UID:10000228-1761213600-1761226200@hr.sbcounty.gov
SUMMARY:Barstow Job Fair and Resource Event
DESCRIPTION:
URL:https://hr.sbcounty.gov/event/barstow-job-fair-and-resource-event/
LOCATION:Harvey House\, 685 N 1st Ave\, Barstow\, CA\, 92311\, United States
CATEGORIES:HR Events,Job Fair
END:VEVENT
BEGIN:VEVENT
DTSTART;TZID=America/Los_Angeles:20250926T090000
DTEND;TZID=America/Los_Angeles:20250926T123000
DTSTAMP:20260422T205739
CREATED:20250422T185328Z
LAST-MODIFIED:20250422T185328Z
UID:10000018-1758877200-1758889800@hr.sbcounty.gov
SUMMARY:Riverside – America’s AJCC MINI Job Fair
DESCRIPTION:
URL:https://hr.sbcounty.gov/event/riverside-americas-ajcc-mini-job-fair/2025-09-26/
LOCATION:Riverside – America’s Job Center of CA (AJCC)\, 1325 Spruce Street\, Riverside\, CA\, 92507\, United States
CATEGORIES:HR Events
ORGANIZER;CN="Lance Sayavong":MAILTO:Lance.Sayavong@edd.ca.gov
END:VEVENT
BEGIN:VEVENT
DTSTART;TZID=America/Los_Angeles:20250822T090000
DTEND;TZID=America/Los_Angeles:20250822T123000
DTSTAMP:20260422T205739
CREATED:20250422T185328Z
LAST-MODIFIED:20250422T185328Z
UID:10000015-1755853200-1755865800@hr.sbcounty.gov
SUMMARY:Riverside – America’s AJCC MINI Job Fair
DESCRIPTION:
URL:https://hr.sbcounty.gov/event/riverside-americas-ajcc-mini-job-fair/2025-08-22/
LOCATION:Riverside – America’s Job Center of CA (AJCC)\, 1325 Spruce Street\, Riverside\, CA\, 92507\, United States
CATEGORIES:HR Events
ORGANIZER;CN="Lance Sayavong":MAILTO:Lance.Sayavong@edd.ca.gov
END:VEVENT
BEGIN:VEVENT
DTSTART;TZID=America/Los_Angeles:20250725T090000
DTEND;TZID=America/Los_Angeles:20250725T123000
DTSTAMP:20260422T205739
CREATED:20250422T185328Z
LAST-MODIFIED:20250422T185328Z
UID:10000012-1753434000-1753446600@hr.sbcounty.gov
SUMMARY:Riverside – America’s AJCC MINI Job Fair
DESCRIPTION:
URL:https://hr.sbcounty.gov/event/riverside-americas-ajcc-mini-job-fair/2025-07-25/
LOCATION:Riverside – America’s Job Center of CA (AJCC)\, 1325 Spruce Street\, Riverside\, CA\, 92507\, United States
CATEGORIES:HR Events
ORGANIZER;CN="Lance Sayavong":MAILTO:Lance.Sayavong@edd.ca.gov
END:VEVENT
BEGIN:VEVENT
DTSTART;TZID=America/Los_Angeles:20250627T090000
DTEND;TZID=America/Los_Angeles:20250627T123000
DTSTAMP:20260422T205739
CREATED:20250422T185328Z
LAST-MODIFIED:20250422T185328Z
UID:10000009-1751014800-1751027400@hr.sbcounty.gov
SUMMARY:Riverside – America’s AJCC MINI Job Fair
DESCRIPTION:
URL:https://hr.sbcounty.gov/event/riverside-americas-ajcc-mini-job-fair/2025-06-27/
LOCATION:Riverside – America’s Job Center of CA (AJCC)\, 1325 Spruce Street\, Riverside\, CA\, 92507\, United States
CATEGORIES:HR Events
ORGANIZER;CN="Lance Sayavong":MAILTO:Lance.Sayavong@edd.ca.gov
END:VEVENT
BEGIN:VEVENT
DTSTART;TZID=America/Los_Angeles:20250528T100000
DTEND;TZID=America/Los_Angeles:20250528T140000
DTSTAMP:20260422T205739
CREATED:20250422T192039Z
LAST-MODIFIED:20250422T192039Z
UID:10000189-1748426400-1748440800@hr.sbcounty.gov
SUMMARY:San Bernardino County WDD-WV Job Fair and Expungement Event
DESCRIPTION:
URL:https://hr.sbcounty.gov/event/san-bernardino-county-wdd-wv-job-fair-and-expungement-event/
CATEGORIES:HR Events
END:VEVENT
BEGIN:VEVENT
DTSTART;TZID=America/Los_Angeles:20250523T090000
DTEND;TZID=America/Los_Angeles:20250523T123000
DTSTAMP:20260422T205739
CREATED:20250422T185328Z
LAST-MODIFIED:20250422T185328Z
UID:10000006-1747990800-1748003400@hr.sbcounty.gov
SUMMARY:Riverside – America’s AJCC MINI Job Fair
DESCRIPTION:
URL:https://hr.sbcounty.gov/event/riverside-americas-ajcc-mini-job-fair/2025-05-23/
LOCATION:Riverside – America’s Job Center of CA (AJCC)\, 1325 Spruce Street\, Riverside\, CA\, 92507\, United States
CATEGORIES:HR Events
ORGANIZER;CN="Lance Sayavong":MAILTO:Lance.Sayavong@edd.ca.gov
END:VEVENT
BEGIN:VEVENT
DTSTART;TZID=America/Los_Angeles:20250521T170000
DTEND;TZID=America/Los_Angeles:20250521T190000
DTSTAMP:20260422T205739
CREATED:20250422T191731Z
LAST-MODIFIED:20250422T191731Z
UID:10000186-1747846800-1747854000@hr.sbcounty.gov
SUMMARY:Supervisor Curt Hagman – District Office Open House 2025
DESCRIPTION:Join Supervisor Hagman and County Departments for fun\, food\, and access to regional resources and information.\nVisiting each booth will enter you in a raffle for fun prizes. Preregistered attendees will receive an extra raffle ticket! \nInteractive and hands-on learning activities \nDepartments/Services in attendance: \n\nAging and Adult Services\nAnimal Care: Pet Adoption Trailer\nAssessor-Recorder-Clerk: Mobile Unit\nChildren and Family Services\nChino Hills Police-Sheriff\nChino Police Department\nChino Valley Fire District\nEnvironmental Health Services\nHuman Resources: RV\nInland Empire Health Plan\nLibrary: Bookmobile\nOffice of Emergency Service: Earthquake Simulator\nOmnitrans\nOntario International Airport\nPublic Health: Narcan Education\nRegional Parks\nROV: BallotMobile\nSouth Coast AQMD\nTransitional Assistance\nWest Valley Mosquito & Vector
URL:https://hr.sbcounty.gov/event/supervisor-curt-hagman-district-office-open-house-2025/
CATEGORIES:HR Events
END:VEVENT
BEGIN:VEVENT
DTSTART;TZID=America/Los_Angeles:20250507T083000
DTEND;TZID=America/Los_Angeles:20250507T133000
DTSTAMP:20260422T205739
CREATED:20250422T190652Z
LAST-MODIFIED:20250422T190652Z
UID:10000183-1746606600-1746624600@hr.sbcounty.gov
SUMMARY:ARMC Farmers' Market
DESCRIPTION:Join us at this month’s event and connect with our HR professionals. Whether you’re curious about career opportunities\, benefits\, or the hiring process—stop by and get your questions answered. Let’s talk about your future with San Bernardino County!
URL:https://hr.sbcounty.gov/event/armc-farmers-market/
CATEGORIES:HR Events
END:VEVENT
BEGIN:VEVENT
DTSTART;TZID=America/Los_Angeles:20250425T090000
DTEND;TZID=America/Los_Angeles:20250425T123000
DTSTAMP:20260422T205739
CREATED:20250422T185328Z
LAST-MODIFIED:20250422T185328Z
UID:10000003-1745571600-1745584200@hr.sbcounty.gov
SUMMARY:Riverside – America’s AJCC MINI Job Fair
DESCRIPTION:
URL:https://hr.sbcounty.gov/event/riverside-americas-ajcc-mini-job-fair/2025-04-25/
LOCATION:Riverside – America’s Job Center of CA (AJCC)\, 1325 Spruce Street\, Riverside\, CA\, 92507\, United States
CATEGORIES:HR Events
ORGANIZER;CN="Lance Sayavong":MAILTO:Lance.Sayavong@edd.ca.gov
END:VEVENT
END:VCALENDAR